BEGIN:VCALENDAR
X-WR-TIMEZONE:Europe/Berlin
X-WR-CALNAME:rbb-Kalender
VERSION:2.0
METHOD:PUBLISH
CALSCALE:GREGORIAN
PRODID:rbb-CMS DAY
BEGIN:VEVENT
CLASS:PUBLIC
URL:http://www.rbb-online.de/content/rbb/rbb/zibb/archiv/20130909_1830/die-musikpatin.html
DTEND:20130909T192500
DTSTART:20130909T183000
UID:/content/rbb/rbb/zibb/archiv/20130909_1830/die-musikpatin
DTSTAMP:20140406T213304
DESCRIPTION:In Neukölln gibt es viele Kinder mit besonderen Begabungen. Doch oft fehlt es den Eltern am Geld, um die Begabung der Kinder zu fördern. Das Projekt Neuköllner Talente will das ändern und bringt Menschen aus Berlin zusammen, die sich gegenseitig etwas beibringen können. So wie die Komponistin Andreas Neumann und die 12-jährige Ceyda.\n
SUMMARY:Die Musikpatin
END:VEVENT
END:VCALENDAR
