BEGIN:VCALENDAR
X-WR-TIMEZONE:Europe/Berlin
X-WR-CALNAME:rbb-Kalender
VERSION:2.0
METHOD:PUBLISH
CALSCALE:GREGORIAN
PRODID:rbb-CMS DAY
BEGIN:VEVENT
CLASS:PUBLIC
URL:http://www.rbb-online.de/content/rbb/rbb/zibb/archiv/20130909_1830/medianight.html
DTEND:20130909T192500
DTSTART:20130909T183000
UID:/content/rbb/rbb/zibb/archiv/20130909_1830/medianight
DTSTAMP:20140406T213243
DESCRIPTION:Noch bis zum Mittwoch läuft die IFA und insbesondere für prominente, geladene Gäste gibt es am Montagabend ein Highlight: die glamuröse Medianight in der O2 World am Ostbahnhof. Ulli Zelle meldet sich live aus der Veranstaltungsarena.\n
SUMMARY:Medianight in der O2 World
END:VEVENT
END:VCALENDAR
