BEGIN:VCALENDAR
X-WR-TIMEZONE:Europe/Berlin
X-WR-CALNAME:rbb-Kalender
VERSION:2.0
METHOD:PUBLISH
CALSCALE:GREGORIAN
PRODID:rbb-CMS DAY
BEGIN:VEVENT
CLASS:PUBLIC
URL:http://www.rbb-online.de/content/rbb/rbb/zibb/archiv/20130909_1830/neue-chance-fuer-steinkauz.html
DTEND:20130909T192500
DTSTART:20130909T183000
UID:/content/rbb/rbb/zibb/archiv/20130909_1830/neue-chance-fuer-steinkauz
DTSTAMP:20140406T213313
DESCRIPTION:In der Nuthe-Nieplitz-Niederung wurde 1989 der letzte Steinkauz gesehen. Die Tiere waren ursprünglich in der Region heimisch. Die zweitkleinste Eulenart hat sich mit der Veränderung der Landschaft quasi "verzogen". Nun soll das Käuzchen wieder angesiedelt werden.\n
SUMMARY:Der Steinkauz kommt zurück
END:VEVENT
END:VCALENDAR
