BEGIN:VCALENDAR
X-WR-TIMEZONE:Europe/Berlin
X-WR-CALNAME:rbb-Kalender
VERSION:2.0
METHOD:PUBLISH
CALSCALE:GREGORIAN
PRODID:rbb-CMS DAY
BEGIN:VEVENT
CLASS:PUBLIC
URL:http://www.rbb-online.de/content/rbb/rbb/zibb/archiv/20130910_1830/bmx-wettkaempfe.html
DTEND:20130910T192500
DTSTART:20130910T183000
UID:/content/rbb/rbb/zibb/archiv/20130910_1830/bmx-wettkaempfe
DTSTAMP:20140407T165809
DESCRIPTION:Viele Kitas entwickeln ein besonderes Profil und bieten beispielsweise Chinesisch, Japanisch, Yoga oder Ballett an. In Birkenstein, einem Ortsteil der Gemeinde Hoppegarten bei Berlin, brennen Kinder, Eltern und Erzieher für einen ganz speziellen Sport: BMX-Fahren.\n
SUMMARY:BMX-Wettkämpfe in der Kita
END:VEVENT
END:VCALENDAR
