BEGIN:VCALENDAR
X-WR-TIMEZONE:Europe/Berlin
X-WR-CALNAME:rbb-Kalender
VERSION:2.0
METHOD:PUBLISH
CALSCALE:GREGORIAN
PRODID:rbb-CMS DAY
BEGIN:VEVENT
CLASS:PUBLIC
URL:http://www.rbb-online.de/content/rbb/rbb/zibb/archiv/20130910_1830/lagerfeld-wird-75.html
DTEND:20130910T192500
DTSTART:20130910T183000
UID:/content/rbb/rbb/zibb/archiv/20130910_1830/lagerfeld-wird-75
DTSTAMP:20140407T165732
DESCRIPTION:Modemacher Karl Lagerfeld wird nach eigenen Angaben an diesem Dienstag 75 Jahre alt. Der Mann mit dem Zopf ist eine Ikone, er hat angeblich einen weltweiten Bekanntheitsgrad von 97 Prozent. Wir senden herzliche Geburtstagsgrüße und blicken  zurück in die Vergangenheit des wandlungsfähigen Modezars.\n
SUMMARY:Karl Lagerfeld feiert Geburtstag
END:VEVENT
END:VCALENDAR
