BEGIN:VCALENDAR
X-WR-TIMEZONE:Europe/Berlin
X-WR-CALNAME:rbb-Kalender
VERSION:2.0
METHOD:PUBLISH
CALSCALE:GREGORIAN
PRODID:rbb-CMS DAY
BEGIN:VEVENT
CLASS:PUBLIC
URL:http://www.rbb-online.de/content/rbb/rbb/zibb/archiv/20130910_1830/linde-als-wunschbaum.html
DTEND:20130910T192500
DTSTART:20130910T183000
UID:/content/rbb/rbb/zibb/archiv/20130910_1830/linde-als-wunschbaum
DTSTAMP:20140407T165717
DESCRIPTION:Eine japanische Tradition ist in Berlin angekommen: Julie Marchewka hat aus einer einfachen Linde im Volkspark Friedrichshain einen Wunschbaum gemacht. Jeder kann hier seinen sehnlichsten Wunsch aufschreiben, seinen Zettel an die Äste hängen und hoffen, dass er in Erfüllung geht.\n
SUMMARY:Linde als Wunschbaum
END:VEVENT
END:VCALENDAR
