BEGIN:VCALENDAR
X-WR-TIMEZONE:Europe/Berlin
X-WR-CALNAME:rbb-Kalender
VERSION:2.0
METHOD:PUBLISH
CALSCALE:GREGORIAN
PRODID:rbb-CMS DAY
BEGIN:VEVENT
CLASS:PUBLIC
URL:http://www.rbb-online.de/content/rbb/rbb/zibb/archiv/20130911_1830/Krongut-Luft-und-Liebe.html
DTEND:20130911T192500
DTSTART:20130911T183000
UID:/content/rbb/rbb/zibb/archiv/20130911_1830/Krongut-Luft-und-Liebe
DTSTAMP:20140407T173827
DESCRIPTION:Barocke Pracht mit artistischen Höchstleistungen und viel Humor gibt es erstmals im historischen Krongut Bornstedt. Nach dem großen Erfolg am Wannsee zieht die schräge Fürstengesellschaft "Die Artistokraten" für zusätzliche drei Tage aufs Mustergut der Hohenzollern-Familie in Potsdam.\n\n\n\n\n
SUMMARY:Krongut, Luft und Liebe
END:VEVENT
END:VCALENDAR
