BEGIN:VCALENDAR
X-WR-TIMEZONE:Europe/Berlin
X-WR-CALNAME:rbb-Kalender
VERSION:2.0
METHOD:PUBLISH
CALSCALE:GREGORIAN
PRODID:rbb-CMS DAY
BEGIN:VEVENT
CLASS:PUBLIC
URL:http://www.rbb-online.de/content/rbb/rbb/zibb/archiv/20130911_1830/SEK-stuermt-falsche-Wohnung.html
DTEND:20130911T192500
DTSTART:20130911T183000
UID:/content/rbb/rbb/zibb/archiv/20130911_1830/SEK-stuermt-falsche-Wohnung
DTSTAMP:20140407T173814
DESCRIPTION:Diesen Abend wird Jürgen F. so schnell nicht vergessen. Am Sonntag spricht er mit seiner Mutter gerade übers Abendessen, als ein Spezialeinsatzkommando der Polizei die Tür aufbricht und die Wohnung stürmt.\n
SUMMARY:SEK stürmt falsche Wohnung
END:VEVENT
END:VCALENDAR
