BEGIN:VCALENDAR
X-WR-TIMEZONE:Europe/Berlin
X-WR-CALNAME:rbb-Kalender
VERSION:2.0
METHOD:PUBLISH
CALSCALE:GREGORIAN
PRODID:rbb-CMS DAY
BEGIN:VEVENT
CLASS:PUBLIC
URL:http://www.rbb-online.de/content/rbb/rbb/zibb/archiv/20130911_1830/Typberatun-von-Jobcenter.html
DTEND:20130911T192500
DTSTART:20130911T183000
UID:/content/rbb/rbb/zibb/archiv/20130911_1830/Typberatun-von-Jobcenter
DTSTAMP:20140407T173759
DESCRIPTION:Im Jobcenter Brandenburg bekommen Arbeitslose jetzt eine Stil- und Typberatung spendiert. Das Ziel: Bessere Chancen beim Vorstellungsgespräch. Denn zu oft vermasseln sie sich durch schlampige Kleidung den neuen Job. \n\n\n
SUMMARY:Typberatung vom Jobcenter
END:VEVENT
END:VCALENDAR
