BEGIN:VCALENDAR
X-WR-TIMEZONE:Europe/Berlin
X-WR-CALNAME:rbb-Kalender
VERSION:2.0
METHOD:PUBLISH
CALSCALE:GREGORIAN
PRODID:rbb-CMS DAY
BEGIN:VEVENT
CLASS:PUBLIC
URL:http://www.rbb-online.de/content/rbb/rbb/zibb/archiv/20130911_1830/bushidos-neue-buch.html
DTEND:20130911T192500
DTSTART:20130911T183000
UID:/content/rbb/rbb/zibb/archiv/20130911_1830/bushidos-neue-buch
DTSTAMP:20140407T173745
DESCRIPTION:Der Rapper Bushido macht in jüngster Zeit weniger als Künstler auf sich aufmerksam, als durch verbale Gewalt und Provokationen. Am Mittwoch nun hat er ein Buch veröffentlicht zum Thema "Integration" - der Titel: "Auch wir sind Deutschland".\n
SUMMARY:Bushidos neues Buch
END:VEVENT
END:VCALENDAR
