BEGIN:VCALENDAR
X-WR-TIMEZONE:Europe/Berlin
X-WR-CALNAME:rbb-Kalender
VERSION:2.0
METHOD:PUBLISH
CALSCALE:GREGORIAN
PRODID:rbb-CMS DAY
BEGIN:VEVENT
CLASS:PUBLIC
URL:http://www.rbb-online.de/content/rbb/rbb/zibb/archiv/20130912_1830/DatenklaubeiVodafone.html
DTEND:20130912T192500
DTSTART:20130912T183000
UID:/content/rbb/rbb/zibb/archiv/20130912_1830/DatenklaubeiVodafone
DTSTAMP:20140407T174740
DESCRIPTION:Vodafone Deutschland sind Stammdaten von zwei Millionen Kunden gestohlen worden. Die erbeuteten Angaben zu Namen, Adressen, Bankleitzahlen und Kontonummern könnten dazu dienen, spätere Hackerangriffe auf einzelne Personen zu erleichtern. \n
SUMMARY:Datenklau bei Vodafone
END:VEVENT
END:VCALENDAR
