BEGIN:VCALENDAR
X-WR-TIMEZONE:Europe/Berlin
X-WR-CALNAME:rbb-Kalender
VERSION:2.0
METHOD:PUBLISH
CALSCALE:GREGORIAN
PRODID:rbb-CMS DAY
BEGIN:VEVENT
CLASS:PUBLIC
URL:http://www.rbb-online.de/content/rbb/rbb/zibb/archiv/20130912_1830/Mach-mit-berlin-wird-schoener.html
DTEND:20130912T192500
DTSTART:20130912T183000
UID:/content/rbb/rbb/zibb/archiv/20130912_1830/Mach-mit-berlin-wird-schoener
DTSTAMP:20140407T174723
DESCRIPTION:In Berlin ist Großreinemachen angesagt. Am kommenden Wochenende sind alle Bürger aufgerufen, Vorgärten, Parkanlagen, Straßen, Spielplätze und ähnliches von Unkraut und Dreck zu befreien. "Macht mit - für ein schönes Berlin", so das Motto des 3. Aktionstages.\n
SUMMARY:Gewachsene Gemeinschaft 
END:VEVENT
END:VCALENDAR
