BEGIN:VCALENDAR
X-WR-TIMEZONE:Europe/Berlin
X-WR-CALNAME:rbb-Kalender
VERSION:2.0
METHOD:PUBLISH
CALSCALE:GREGORIAN
PRODID:rbb-CMS DAY
BEGIN:VEVENT
CLASS:PUBLIC
URL:http://www.rbb-online.de/content/rbb/rbb/zibb/archiv/20130913_1830/5-jahre-nach-der-lehman-pleite.html
DTEND:20130913T192500
DTSTART:20130913T183000
UID:/content/rbb/rbb/zibb/archiv/20130913_1830/5-jahre-nach-der-lehman-pleite
DTSTAMP:20140406T220542
DESCRIPTION:Fünf Jahre ist die Pleite des US-amerikanischen Geldhauses Lehman-Borthers her. Sie war der Auslöser für die Finanzkrise. Leidtragende waren vor allem kleine und mittelständische Sparer, deren Gelder durch die Banken in undurchsichtige Finanzprodukte investiert wurden.\n
SUMMARY:Fünf Jahre nach der Lehman-Pleite
END:VEVENT
END:VCALENDAR
