BEGIN:VCALENDAR
X-WR-TIMEZONE:Europe/Berlin
X-WR-CALNAME:rbb-Kalender
VERSION:2.0
METHOD:PUBLISH
CALSCALE:GREGORIAN
PRODID:rbb-CMS DAY
BEGIN:VEVENT
CLASS:PUBLIC
URL:http://www.rbb-online.de/content/rbb/rbb/zibb/archiv/20130913_1830/ber-krtikatur.html
DTEND:20130913T192500
DTSTART:20130913T183000
UID:/content/rbb/rbb/zibb/archiv/20130913_1830/ber-krtikatur
DTSTAMP:20140406T220446
DESCRIPTION:Ständig gibt es neue Hiobsbotschaften vom BER. Viele freuen sich auch darüber, dass der Flughafen nicht so schnell eröffnet, denn seit Jahren laufen die Proteste gegen den zu erwartenden Fluglärm. Einer der fleißig mitdemonstriert ist Horst Halling, Künstler aus Wilhelmshorst.\n\n\n
SUMMARY:Der BER Karikaturist
END:VEVENT
END:VCALENDAR
