BEGIN:VCALENDAR
X-WR-TIMEZONE:Europe/Berlin
X-WR-CALNAME:rbb-Kalender
VERSION:2.0
METHOD:PUBLISH
CALSCALE:GREGORIAN
PRODID:rbb-CMS DAY
BEGIN:VEVENT
CLASS:PUBLIC
URL:http://www.rbb-online.de/content/rbb/rbb/zibb/archiv/20130913_1830/gedaechtniskirche.html
DTEND:20130913T192500
DTSTART:20130913T183000
UID:/content/rbb/rbb/zibb/archiv/20130913_1830/gedaechtniskirche
DTSTAMP:20140406T220535
DESCRIPTION:Am Sonntag werden sie endlich wieder erklingen, die Glocken der Berliner Gedächtniskirche. Drei Jahre lang verhüllte ein Baugerüst den "Hohlen Zahn", zwei Jahre lang wurde gebaut. zibb läutet heute schon mal zur Probe mit Pfr. Martin Germer, bevor es am Sonntag den großen Festgottesdienst gibt.\n
SUMMARY:Gedächtniskirche nach der Sanierung
END:VEVENT
END:VCALENDAR
