BEGIN:VCALENDAR
X-WR-TIMEZONE:Europe/Berlin
X-WR-CALNAME:rbb-Kalender
VERSION:2.0
METHOD:PUBLISH
CALSCALE:GREGORIAN
PRODID:rbb-CMS DAY
BEGIN:VEVENT
CLASS:PUBLIC
URL:http://www.rbb-online.de/content/rbb/rbb/zibb/archiv/20130916_1830/first-step-award.html
DTEND:20130916T192500
DTSTART:20130916T183000
UID:/content/rbb/rbb/zibb/archiv/20130916_1830/first-step-award
DTSTAMP:20140407T175856
DESCRIPTION:Die FIRST STEPS Awards zählen zu den bedeutendsten Nachwuchsauszeichnungen der Filmbranche. Für den diesjährigen Wettbewerb wurden 195 Einreichungen akzeptiert. Die mit insgesamt 82.000 Euro dotierten Preise wurden im Rahmen einer festlichen Gala im Theater am Potsdamer Platz verliehen.\n\n\n
SUMMARY:First Steps Award     
END:VEVENT
END:VCALENDAR
