BEGIN:VCALENDAR
X-WR-TIMEZONE:Europe/Berlin
X-WR-CALNAME:rbb-Kalender
VERSION:2.0
METHOD:PUBLISH
CALSCALE:GREGORIAN
PRODID:rbb-CMS DAY
BEGIN:VEVENT
CLASS:PUBLIC
URL:http://www.rbb-online.de/content/rbb/rbb/zibb/archiv/20130916_1830/geruilla-stricken.html
DTEND:20130916T192500
DTSTART:20130916T183000
UID:/content/rbb/rbb/zibb/archiv/20130916_1830/geruilla-stricken
DTSTAMP:20140407T175830
DESCRIPTION:Man sieht diese besonderen Objekte der Straßenkunst immer häufiger. Es sind Litfasssäulen mit Strickmützen. Eingestrickte Verkehrsschilder und Ampeln oder Laternen im bunten Strickkleid. Diese Form von Streetart nennt sich Guerilla Stricken.\n\n \n\n\n
SUMMARY:Strickmode für Straßenschilder 
END:VEVENT
END:VCALENDAR
