BEGIN:VCALENDAR
X-WR-TIMEZONE:Europe/Berlin
X-WR-CALNAME:rbb-Kalender
VERSION:2.0
METHOD:PUBLISH
CALSCALE:GREGORIAN
PRODID:rbb-CMS DAY
BEGIN:VEVENT
CLASS:PUBLIC
URL:http://www.rbb-online.de/content/rbb/rbb/zibb/archiv/20130916_1830/guiseppe.html
DTEND:20130916T192500
DTSTART:20130916T183000
UID:/content/rbb/rbb/zibb/archiv/20130916_1830/guiseppe
DTSTAMP:20140407T175741
DESCRIPTION:Am 17.09. ist es genau zwei Jahre her, dass der 23-jährige Guiseppe Marcone von zwei Männern zu Tode gehetzt wurde, die ihn zuvor im U-Bahnhof Kaiserdamm verprügelt hatten. Seine Mutter hat danach das erste Jahr im Schock verbracht, bis ihr Anwalt ihr riet, aktiv zu werden. \n
SUMMARY:Guiseppe Marcone - unvergessen 
END:VEVENT
END:VCALENDAR
