BEGIN:VCALENDAR
X-WR-TIMEZONE:Europe/Berlin
X-WR-CALNAME:rbb-Kalender
VERSION:2.0
METHOD:PUBLISH
CALSCALE:GREGORIAN
PRODID:rbb-CMS DAY
BEGIN:VEVENT
CLASS:PUBLIC
URL:http://www.rbb-online.de/content/rbb/rbb/zibb/archiv/20130917_1830/handydiaet.html
DTEND:20130917T192500
DTSTART:20130917T183000
UID:/content/rbb/rbb/zibb/archiv/20130917_1830/handydiaet
DTSTAMP:20140406T041448
DESCRIPTION:Das Handy ist für die meisten Schüler zur Selbstverständlichkeit geworden. Viele Kids kommen kaum ein paar Stunden oder gar einen ganzen Tag ohne ihr Smartphone aus. Sie telefonieren, surfen, texten, twittern was das Zeug hält. Umso mutiger ist die Aktion, die die Schüler einer 9. Klasse in Luckenwalde umsetzen: Sie wollen eine Woche lang auf das Mobiltelefon verzichten.\n\n\n
SUMMARY:Eine Woche ohne Handy
END:VEVENT
END:VCALENDAR
