BEGIN:VCALENDAR
X-WR-TIMEZONE:Europe/Berlin
X-WR-CALNAME:rbb-Kalender
VERSION:2.0
METHOD:PUBLISH
CALSCALE:GREGORIAN
PRODID:rbb-CMS DAY
BEGIN:VEVENT
CLASS:PUBLIC
URL:http://www.rbb-online.de/content/rbb/rbb/zibb/archiv/20130917_1830/kunst-aus-der-kaserne-.html
DTEND:20130917T192500
DTSTART:20130917T183000
UID:/content/rbb/rbb/zibb/archiv/20130917_1830/kunst-aus-der-kaserne-
DTSTAMP:20140406T041540
DESCRIPTION:Die Kunstkaserne Berlin nahe dem alten Flugplatz Johannisthal bietet Künstlern bezahlbare Atelierräume, 5 Euro warm kostet der Quadratmeter. Nach der deutschen Wehrmacht, der roten Armee und der DDR-Staatssicherheit ist die ehemalige Wehrmachtskaserne seit August 2012 fest in Künstlerhand.\n\n\n
SUMMARY:Kunst aus der Kaserne
END:VEVENT
END:VCALENDAR
