BEGIN:VCALENDAR
X-WR-TIMEZONE:Europe/Berlin
X-WR-CALNAME:rbb-Kalender
VERSION:2.0
METHOD:PUBLISH
CALSCALE:GREGORIAN
PRODID:rbb-CMS DAY
BEGIN:VEVENT
CLASS:PUBLIC
URL:http://www.rbb-online.de/content/rbb/rbb/zibb/archiv/20130918_1830/erpresser.html
DTEND:20130918T192500
DTSTART:20130918T183000
UID:/content/rbb/rbb/zibb/archiv/20130918_1830/erpresser
DTSTAMP:20140406T041708
DESCRIPTION:Die spektakuläre Entführung eines Berliner Investmentbankers in Storkow ist möglicherweise aufgeklärt. Gegen den mutmaßlichen Täter wurde am Mittwoch Haftbefehl erlassen. Er soll auch mit zwei brutalen Attacken auf eine Berliner Unternehmerfamilie in Zusammenhang stehen. Die Polizei observierte den Mann seit März. Zibb fasst die aktuellen Erkenntnisse zusammen.\n\n\n
SUMMARY:Mutmaßlicher Entführer gefasst 
END:VEVENT
END:VCALENDAR
