BEGIN:VCALENDAR
X-WR-TIMEZONE:Europe/Berlin
X-WR-CALNAME:rbb-Kalender
VERSION:2.0
METHOD:PUBLISH
CALSCALE:GREGORIAN
PRODID:rbb-CMS DAY
BEGIN:VEVENT
CLASS:PUBLIC
URL:http://www.rbb-online.de/content/rbb/rbb/zibb/archiv/20130918_1830/kaethe-kruse.html
DTEND:20130918T192500
DTSTART:20130918T183000
UID:/content/rbb/rbb/zibb/archiv/20130918_1830/kaethe-kruse
DTSTAMP:20140406T041605
DESCRIPTION:Am 17. September 1883, also genau vor 130 Jahren, wurde Käthe Kruse geboren. Die bekannteste Puppenmacherin der Welt lebte viele Jahre in Berlin. zibb hat sich auf Spurensuche begeben und erinnert an diese außergewöhnliche Persönlichkeit.\n
SUMMARY:Hier wohnte Käthe Kruse 
END:VEVENT
END:VCALENDAR
