BEGIN:VCALENDAR
X-WR-TIMEZONE:Europe/Berlin
X-WR-CALNAME:rbb-Kalender
VERSION:2.0
METHOD:PUBLISH
CALSCALE:GREGORIAN
PRODID:rbb-CMS DAY
BEGIN:VEVENT
CLASS:PUBLIC
URL:http://www.rbb-online.de/content/rbb/rbb/zibb/archiv/20130918_1830/kpm.html
DTEND:20130918T192500
DTSTART:20130918T183000
UID:/content/rbb/rbb/zibb/archiv/20130918_1830/kpm
DTSTAMP:20140406T041616
DESCRIPTION:Die Königliche Porzellan Manufaktur Berlin feiert ihren 250. Geburtstag. Dabei sah es vor einigen Jahren gar nicht gut aus für die Manufaktur. 2005 stand die Firma kurz vor der Pleite.\n\n\n
SUMMARY:KPM wird 250 Jahre alt 
END:VEVENT
END:VCALENDAR
