BEGIN:VCALENDAR
X-WR-TIMEZONE:Europe/Berlin
X-WR-CALNAME:rbb-Kalender
VERSION:2.0
METHOD:PUBLISH
CALSCALE:GREGORIAN
PRODID:rbb-CMS DAY
BEGIN:VEVENT
CLASS:PUBLIC
URL:http://www.rbb-online.de/content/rbb/rbb/zibb/archiv/20130919_1830/sextaeter.html
DTEND:20130919T192500
DTSTART:20130919T183000
UID:/content/rbb/rbb/zibb/archiv/20130919_1830/sextaeter
DTSTAMP:20140406T042041
DESCRIPTION:Die Eltern in Hellersdorf achten in diesen Tagen besonders auf ihre Kinder. Ein Mann wird gesucht, der ein siebenjähriges Mädchen ins Gebüsch gezerrt und versucht hatte, sich an ihr zu vergehen. Das Mädchen schrie und wehrte sich. Es handelte instinktiv richtig und konnte sich so retten. Nun sucht die Polizei nach dem dunkelblonden, stämmigen Mann.\n
SUMMARY:Polizei sucht nach gefährlichem Triebtäter
END:VEVENT
END:VCALENDAR
