BEGIN:VCALENDAR
X-WR-TIMEZONE:Europe/Berlin
X-WR-CALNAME:rbb-Kalender
VERSION:2.0
METHOD:PUBLISH
CALSCALE:GREGORIAN
PRODID:rbb-CMS DAY
BEGIN:VEVENT
CLASS:PUBLIC
URL:http://www.rbb-online.de/content/rbb/rbb/zibb/archiv/20130919_1830/sponsoringideen.html
DTEND:20130919T192500
DTSTART:20130919T183000
UID:/content/rbb/rbb/zibb/archiv/20130919_1830/sponsoringideen
DTSTAMP:20140406T042014
DESCRIPTION:Die Internetplattform "Clubspo11" aus Kreuzberg ist die einzige Plattform in Deutschland, die kleinen Fußballvereinen professionell dabei hilft, Trikotsponsoren zu finden. Das Prinzip: Sponsoren und Vereine registrieren sich auf der Plattform und finden so jeweils ihren passenden Partner.\n\n\n
SUMMARY:Neue Sponsoringideen für Vereinssport
END:VEVENT
END:VCALENDAR
