BEGIN:VCALENDAR
X-WR-TIMEZONE:Europe/Berlin
X-WR-CALNAME:rbb-Kalender
VERSION:2.0
METHOD:PUBLISH
CALSCALE:GREGORIAN
PRODID:rbb-CMS DAY
BEGIN:VEVENT
CLASS:PUBLIC
URL:http://www.rbb-online.de/content/rbb/rbb/zibb/archiv/20130920_1830/lose-hoefe.html
DTEND:20130920T192500
DTSTART:20130920T183000
UID:/content/rbb/rbb/zibb/archiv/20130920_1830/lose-hoefe
DTSTAMP:20140406T042328
DESCRIPTION:Sie sehen aus wie Inseln im Feld und wurden immer weiter vererbt. Nur die wenigsten werden inzwischen noch landwirtschaftlich genutzt, wie der Ziegenhof in Zeckericker Loose.\n\n\n
SUMMARY:Lose Höfe - ein Streifzug durchs Oderbruch 
END:VEVENT
END:VCALENDAR
