BEGIN:VCALENDAR
X-WR-TIMEZONE:Europe/Berlin
X-WR-CALNAME:rbb-Kalender
VERSION:2.0
METHOD:PUBLISH
CALSCALE:GREGORIAN
PRODID:rbb-CMS DAY
BEGIN:VEVENT
CLASS:PUBLIC
URL:http://www.rbb-online.de/content/rbb/rbb/zibb/archiv/20130923_1830/berliner-stil.html
DTEND:20130923T192500
DTSTART:20130923T183000
UID:/content/rbb/rbb/zibb/archiv/20130923_1830/berliner-stil
DTSTAMP:20140407T140956
DESCRIPTION:Viel machen aus dem Wenigen, das da ist – das ist eine passende Beschreibung für den sogenannten Berliner Modestil. In der Hauptstadt verzichtet man auf Statussymbole und inszenierte Lässigkeit. Hier muss der persönliche Stil vor allem "echt" sein.\n
SUMMARY:Modeszene: Der Berliner Stil
END:VEVENT
END:VCALENDAR
