BEGIN:VCALENDAR
X-WR-TIMEZONE:Europe/Berlin
X-WR-CALNAME:rbb-Kalender
VERSION:2.0
METHOD:PUBLISH
CALSCALE:GREGORIAN
PRODID:rbb-CMS DAY
BEGIN:VEVENT
CLASS:PUBLIC
URL:http://www.rbb-online.de/content/rbb/rbb/zibb/archiv/20130923_1830/guse-und-die-gurken.html
DTEND:20130923T192500
DTSTART:20130923T183000
UID:/content/rbb/rbb/zibb/archiv/20130923_1830/guse-und-die-gurken
DTSTAMP:20140407T141042
DESCRIPTION:Warum knackt der Deckel vom Gurkenglas, wenn man es öffnet? Dieses große Geheimnis der Menschheitsgeschichte hat Chris Guse am Montag für uns gelüftet, indem er tief ins Gurkenglas eingetaucht ist.\n\n\n
SUMMARY:...wie das "Knacken!" ins Gurkenglas kommt
END:VEVENT
END:VCALENDAR
