BEGIN:VCALENDAR
X-WR-TIMEZONE:Europe/Berlin
X-WR-CALNAME:rbb-Kalender
VERSION:2.0
METHOD:PUBLISH
CALSCALE:GREGORIAN
PRODID:rbb-CMS DAY
BEGIN:VEVENT
CLASS:PUBLIC
URL:http://www.rbb-online.de/content/rbb/rbb/zibb/archiv/20130923_1830/kormorane.html
DTEND:20130923T192500
DTSTART:20130923T183000
UID:/content/rbb/rbb/zibb/archiv/20130923_1830/kormorane
DTSTAMP:20140407T140934
DESCRIPTION:Fischer Volker Wolf schlägt Alarm. Seit Mitte August lassen sich immer wieder hunderte von Kormoranen am Werbellinsee nieder. Diese Zugvögel sind exzellente Fischjäger. Sie tauchen bis zu 30 Meter tief und dezimieren in Wolfs Revier vor allem die Maränenbestände.\n
SUMMARY:Kormorane fangen Maränen weg 
END:VEVENT
END:VCALENDAR
