BEGIN:VCALENDAR
X-WR-TIMEZONE:Europe/Berlin
X-WR-CALNAME:rbb-Kalender
VERSION:2.0
METHOD:PUBLISH
CALSCALE:GREGORIAN
PRODID:rbb-CMS DAY
BEGIN:VEVENT
CLASS:PUBLIC
URL:http://www.rbb-online.de/content/rbb/rbb/zibb/archiv/20130924_1830/kartoffel.html
DTEND:20130924T192500
DTSTART:20130924T183000
UID:/content/rbb/rbb/zibb/archiv/20130924_1830/kartoffel
DTSTAMP:20140407T142927
DESCRIPTION: Die brandenburgische Kartoffel hat es schwer: Immer heißer und trockener werden die Sommer, das bisschen Regen versickert im märkischen Sand. Die Kartoffel hat Stress, genauer gesagt Trockenstress, denn ohne Wasser wächst sie nur langsam und bildet wenige Knollen aus. \n\n\n
SUMMARY:Brandenburg sucht die Superkartoffel
END:VEVENT
END:VCALENDAR
