BEGIN:VCALENDAR
X-WR-TIMEZONE:Europe/Berlin
X-WR-CALNAME:rbb-Kalender
VERSION:2.0
METHOD:PUBLISH
CALSCALE:GREGORIAN
PRODID:rbb-CMS DAY
BEGIN:VEVENT
CLASS:PUBLIC
URL:http://www.rbb-online.de/content/rbb/rbb/zibb/archiv/20130924_1830/tautes-heim.html
DTEND:20130924T192500
DTSTART:20130924T183000
UID:/content/rbb/rbb/zibb/archiv/20130924_1830/tautes-heim
DTSTAMP:20140407T142910
DESCRIPTION:Alle Liebhaber der Architektur und des Designs der Goldenen Zwanziger kommen hier voll auf ihre Kosten: Zwei Berliner haben in Neukölln ein Haus ganz im Sinne des Architekten Bruno Taut restauriert. Wer in diesem Feriendomzil logiert, erlebt eine faszinierende Zeitreise.\n
SUMMARY:"Tautes Heim" – Wohnen wie in den 20ern
END:VEVENT
END:VCALENDAR
