BEGIN:VCALENDAR
X-WR-TIMEZONE:Europe/Berlin
X-WR-CALNAME:rbb-Kalender
VERSION:2.0
METHOD:PUBLISH
CALSCALE:GREGORIAN
PRODID:rbb-CMS DAY
BEGIN:VEVENT
CLASS:PUBLIC
URL:http://www.rbb-online.de/content/rbb/rbb/zibb/archiv/20130925_1830/airbrush.html
DTEND:20130925T192500
DTSTART:20130925T183000
UID:/content/rbb/rbb/zibb/archiv/20130925_1830/airbrush
DTSTAMP:20140407T175046
DESCRIPTION:Michael Kröpsch ist eigentlich Autolackierer, doch vor ein paar Jahren fing er an, Airbrush-Porträts zu malen. Auch Stromkästen sprüht er mit dieser Technik an, um die Dörfer im Kreis Elbe-Elster zu verschönern. zibb hat ihn zu Hause besucht und stellt seine Kunst vor.\n
SUMMARY:Der Airbrush-Künstler
END:VEVENT
END:VCALENDAR
