BEGIN:VCALENDAR
X-WR-TIMEZONE:Europe/Berlin
X-WR-CALNAME:rbb-Kalender
VERSION:2.0
METHOD:PUBLISH
CALSCALE:GREGORIAN
PRODID:rbb-CMS DAY
BEGIN:VEVENT
CLASS:PUBLIC
URL:http://www.rbb-online.de/content/rbb/rbb/zibb/archiv/20130926_1830/ausstellung-schoenheit.html
DTEND:20130926T192500
DTSTART:20130926T183000
UID:/content/rbb/rbb/zibb/archiv/20130926_1830/ausstellung-schoenheit
DTSTAMP:20140407T174238
DESCRIPTION:Wer oder was ist eigentlich schön? Und wohin führt uns das Diktat der Schönheit? Die Sonderausstellung "Bin ich schön?" im Berliner Museum für Kommunikation widmet sich den vielfältigen Aspekten rund um die Macht und das Machen von Schönheit.\n
SUMMARY:'Bin ich schön?'
END:VEVENT
END:VCALENDAR
