BEGIN:VCALENDAR
X-WR-TIMEZONE:Europe/Berlin
X-WR-CALNAME:rbb-Kalender
VERSION:2.0
METHOD:PUBLISH
CALSCALE:GREGORIAN
PRODID:rbb-CMS DAY
BEGIN:VEVENT
CLASS:PUBLIC
URL:http://www.rbb-online.de/content/rbb/rbb/zibb/archiv/20130926_1830/peter-raacke.html
DTEND:20130926T192500
DTSTART:20130926T183000
UID:/content/rbb/rbb/zibb/archiv/20130926_1830/peter-raacke
DTSTAMP:20140407T174212
DESCRIPTION:Er ist der Erfinder der legendären Pappmöbel, die in den 70er Jahren in Deutschland Furore machten. Auch das zeitlose Besteck "Mono" hat er kreiert. Am 27. September 2013 feiert der erfolgreiche Berliner Designer seinen 85. Geburtstag.\n
SUMMARY:Designer Peter Raacke wird 85
END:VEVENT
END:VCALENDAR
