BEGIN:VCALENDAR
X-WR-TIMEZONE:Europe/Berlin
X-WR-CALNAME:rbb-Kalender
VERSION:2.0
METHOD:PUBLISH
CALSCALE:GREGORIAN
PRODID:rbb-CMS DAY
BEGIN:VEVENT
CLASS:PUBLIC
URL:http://www.rbb-online.de/content/rbb/rbb/zibb/archiv/20130926_1830/seelenbrecher.html
DTEND:20130926T192500
DTSTART:20130926T183000
UID:/content/rbb/rbb/zibb/archiv/20130926_1830/seelenbrecher
DTSTAMP:20140407T174308
DESCRIPTION:Der Psychothriller "Der Seelenbrecher" von Bestseller-Autor Sebastian Fitzek kommt jetzt auf die Bühne und feiert am Donnerstagabend Premiere im Berliner Kriminaltheater. Unsere Reporterin Patricia Pantel ist live dabei und will natürlich wissen, wie das Stück bei den Zuschauern und beim Autor ankommt.\n
SUMMARY:Premiere 'Der Seelenbrecher'
END:VEVENT
END:VCALENDAR
