BEGIN:VCALENDAR
X-WR-TIMEZONE:Europe/Berlin
X-WR-CALNAME:rbb-Kalender
VERSION:2.0
METHOD:PUBLISH
CALSCALE:GREGORIAN
PRODID:rbb-CMS DAY
BEGIN:VEVENT
CLASS:PUBLIC
URL:http://www.rbb-online.de/content/rbb/rbb/zibb/archiv/20130926_1830/waldjunge-ray.html
DTEND:20130926T192500
DTSTART:20130926T183000
UID:/content/rbb/rbb/zibb/archiv/20130926_1830/waldjunge-ray
DTSTAMP:20140407T174204
DESCRIPTION:Das Berliner Amtsgericht Tiergarten hat am Donnerstag ein Betrugsverfahren gegen den als Waldjunge Ray bekannt gewordenen Niederländer Robin v. H. eingestellt. Der 21-Jährige muss aber 150 Stunden gemeinnützige Arbeit leisten. \n
SUMMARY:Betrugsprozess gegen 'Waldjungen Ray' eingestellt
END:VEVENT
END:VCALENDAR
