BEGIN:VCALENDAR
X-WR-TIMEZONE:Europe/Berlin
X-WR-CALNAME:rbb-Kalender
VERSION:2.0
METHOD:PUBLISH
CALSCALE:GREGORIAN
PRODID:rbb-CMS DAY
BEGIN:VEVENT
CLASS:PUBLIC
URL:http://www.rbb-online.de/content/rbb/rbb/zibb/archiv/20130927_1830/alternative-wiesnmode.html
DTEND:20130927T192500
DTSTART:20130927T183000
UID:/content/rbb/rbb/zibb/archiv/20130927_1830/alternative-wiesnmode
DTSTAMP:20140406T220737
DESCRIPTION:Karo und Hirschknöpfe waren gestern, wer heute auf der Wiesn beeindrucken möchte, trägt ausgefallene Dirndlkreationen in knalligen Farben oder ganz aus Leder. Die gibt es zum Beispiel bei Designer Daniel Rodan oder bei Eveline Stoesser.\n
SUMMARY:Alternative Wiesnmode
END:VEVENT
END:VCALENDAR
