BEGIN:VCALENDAR
X-WR-TIMEZONE:Europe/Berlin
X-WR-CALNAME:rbb-Kalender
VERSION:2.0
METHOD:PUBLISH
CALSCALE:GREGORIAN
PRODID:rbb-CMS DAY
BEGIN:VEVENT
CLASS:PUBLIC
URL:http://www.rbb-online.de/content/rbb/rbb/zibb/archiv/20130927_1830/marathon-geschichte.html
DTEND:20130927T192500
DTSTART:20130927T183000
UID:/content/rbb/rbb/zibb/archiv/20130927_1830/marathon-geschichte
DTSTAMP:20140406T220819
DESCRIPTION:Wir treffen zwei Menschen, die viele Anekdoten über den Berlin-Marathon erzählen können: Bernd Hübner, der bei fast allen Läufen mitgemacht hat, und Rotraut Zylka. Sie hatte einst zusammen mit Horst Milde die Idee für den Marathon und ist seitdem als Organisatorin dabei.\n
SUMMARY:Geschichten und Geschichte
END:VEVENT
END:VCALENDAR
