BEGIN:VCALENDAR
X-WR-TIMEZONE:Europe/Berlin
X-WR-CALNAME:rbb-Kalender
VERSION:2.0
METHOD:PUBLISH
CALSCALE:GREGORIAN
PRODID:rbb-CMS DAY
BEGIN:VEVENT
CLASS:PUBLIC
URL:http://www.rbb-online.de/content/rbb/rbb/zibb/archiv/20130930_1830/5.html
DTEND:20130930T192500
DTSTART:20130930T183000
UID:/content/rbb/rbb/zibb/archiv/20130930_1830/5
DTSTAMP:20140407T175424
DESCRIPTION:Nur wenige Tage nach Gründung der Berliner Universität im November 1809, trafen sich einige Gründerväter, um eine Art Debattierclub zu gründen. Zu Zeiten der Napoleonischen Herrschaft in Preußen war das etwas sehr Alternatives. \n\n\n
SUMMARY:Geheimnisvoller Herrenclub
END:VEVENT
END:VCALENDAR
