BEGIN:VCALENDAR
X-WR-TIMEZONE:Europe/Berlin
X-WR-CALNAME:rbb-Kalender
VERSION:2.0
METHOD:PUBLISH
CALSCALE:GREGORIAN
PRODID:rbb-CMS DAY
BEGIN:VEVENT
CLASS:PUBLIC
URL:http://www.rbb-online.de/content/rbb/rbb/zibb/archiv/20130930_1830/6.html
DTEND:20130930T192500
DTSTART:20130930T183000
UID:/content/rbb/rbb/zibb/archiv/20130930_1830/6
DTSTAMP:20140407T175435
DESCRIPTION:Gabriele Bühler vermittelt nach amerikanischem Volunteer-Vorbild ehrenamtliche "Helfer" für die Philharmonie und das Konzerthaus. Zur Zeit betreut sie 120 Männer und Frauen, die in beiden Häusern dafür sorgen, dass sich Künstler und Gäste rundherum wohl fühlen.\n\n\n
SUMMARY:Kultur als Ehrenamt
END:VEVENT
END:VCALENDAR
