BEGIN:VCALENDAR
X-WR-TIMEZONE:Europe/Berlin
X-WR-CALNAME:rbb-Kalender
VERSION:2.0
METHOD:PUBLISH
CALSCALE:GREGORIAN
PRODID:rbb-CMS DAY
BEGIN:VEVENT
CLASS:PUBLIC
URL:http://www.rbb-online.de/content/rbb/rbb/zibb/archiv/20130930_1830/7.html
DTEND:20130930T192500
DTSTART:20130930T183000
UID:/content/rbb/rbb/zibb/archiv/20130930_1830/7
DTSTAMP:20140407T175400
DESCRIPTION:Der Mensch verbringt 183 Tage seines Lebens mit Autofahrten zur Arbeit. Ist man nur Beifahrer, könnte man lesen. Vielen Menschen wird es dabei schlecht: Chris Guse erklärt uns, warum.\n\n\n\n\n
SUMMARY:Guse klärt auf
END:VEVENT
END:VCALENDAR
