BEGIN:VCALENDAR
X-WR-TIMEZONE:Europe/Berlin
X-WR-CALNAME:rbb-Kalender
VERSION:2.0
METHOD:PUBLISH
CALSCALE:GREGORIAN
PRODID:rbb-CMS DAY
BEGIN:VEVENT
CLASS:PUBLIC
URL:http://www.rbb-online.de/content/rbb/rbb/zibb/archiv/20131001_1830/abenteuer-harz.html
DTEND:20131001T192500
DTSTART:20131001T183000
UID:/content/rbb/rbb/zibb/archiv/20131001_1830/abenteuer-harz
DTSTAMP:20140407T160821
DESCRIPTION:Der Harz ist eine einzigartige Naturlandschaft und ein Ferienparadies zugleich. Mit seinen geheimnisvollen Wäldern, reißenden Flüssen, tiefen Tälern und Schluchten gehört Deutschlands nördlichstes Gebirge zu den beliebtesten Urlaubsregionen der Deutschen.\n\n\n
SUMMARY:Abenteuer Harz
END:VEVENT
END:VCALENDAR
