BEGIN:VCALENDAR
X-WR-TIMEZONE:Europe/Berlin
X-WR-CALNAME:rbb-Kalender
VERSION:2.0
METHOD:PUBLISH
CALSCALE:GREGORIAN
PRODID:rbb-CMS DAY
BEGIN:VEVENT
CLASS:PUBLIC
URL:http://www.rbb-online.de/content/rbb/rbb/zibb/archiv/20131001_1830/oktoberfest-eastside.html
DTEND:20131001T192500
DTSTART:20131001T183000
UID:/content/rbb/rbb/zibb/archiv/20131001_1830/oktoberfest-eastside
DTSTAMP:20140407T160813
DESCRIPTION:Es gibt traditionelle regionale Feste, die auch Menschen aus anderen Regionen so spannend finden, dass sie sich weit verbreiten, manchmal sogar weltweit.\n\n\n
SUMMARY:Oktoberfest EastSide
END:VEVENT
END:VCALENDAR
