BEGIN:VCALENDAR
X-WR-TIMEZONE:Europe/Berlin
X-WR-CALNAME:rbb-Kalender
VERSION:2.0
METHOD:PUBLISH
CALSCALE:GREGORIAN
PRODID:rbb-CMS DAY
BEGIN:VEVENT
CLASS:PUBLIC
URL:http://www.rbb-online.de/content/rbb/rbb/zibb/archiv/20131004_1830/verleihung-mixology-award.html
DTEND:20131004T192500
DTSTART:20131004T183000
UID:/content/rbb/rbb/zibb/archiv/20131004_1830/verleihung-mixology-award
DTSTAMP:20140406T201719
DESCRIPTION:Es sind die Oscars der deutschsprachigen Barszene. Die Mixology Awards werden am kommenden Montag mit einer Gala im Berliner Grand Hyatt verliehen.\n
SUMMARY:Verleihung des Mixology Awards: Bar des Jahres
END:VEVENT
END:VCALENDAR
