BEGIN:VCALENDAR
X-WR-TIMEZONE:Europe/Berlin
X-WR-CALNAME:rbb-Kalender
VERSION:2.0
METHOD:PUBLISH
CALSCALE:GREGORIAN
PRODID:rbb-CMS DAY
BEGIN:VEVENT
CLASS:PUBLIC
URL:http://www.rbb-online.de/content/rbb/rbb/zibb/archiv/20131007_1830/beatsofberlin.html
DTEND:20131007T192500
DTSTART:20131007T183000
UID:/content/rbb/rbb/zibb/archiv/20131007_1830/beatsofberlin
DTSTAMP:20140406T213132
DESCRIPTION:Das Musical "Beats of Berlin" feiert in diesem Winter im Admiralspalast Premiere. Mit Velotaxi begeben sich die drei Hauptcharaktere auf eine Zeitreise durch vier Jahrhunderte, vom Mauerfall bis zurück zum 30jährigen Krieg. Produzent Ronald Schaller zielt auf ein internationales Publikum.\n\n\n
SUMMARY:Musical: Beats of Berlin
END:VEVENT
END:VCALENDAR
