BEGIN:VCALENDAR
X-WR-TIMEZONE:Europe/Berlin
X-WR-CALNAME:rbb-Kalender
VERSION:2.0
METHOD:PUBLISH
CALSCALE:GREGORIAN
PRODID:rbb-CMS DAY
BEGIN:VEVENT
CLASS:PUBLIC
URL:http://www.rbb-online.de/content/rbb/rbb/zibb/archiv/20131007_1830/distortion.html
DTEND:20131007T192500
DTSTART:20131007T183000
UID:/content/rbb/rbb/zibb/archiv/20131007_1830/distortion
DTSTAMP:20140406T213112
DESCRIPTION:Die berühmte Choreographin Constanza Macras hat sich junge Tänzer der HipHopAcademy geschnappt und mit ihnen zu Live-Musik ein Stück um politische Schlagwörter, Migration und Identität entwickelt.\n\n\n\n\n
SUMMARY:Modernes Tanztheater:  Distortion
END:VEVENT
END:VCALENDAR
