BEGIN:VCALENDAR
X-WR-TIMEZONE:Europe/Berlin
X-WR-CALNAME:rbb-Kalender
VERSION:2.0
METHOD:PUBLISH
CALSCALE:GREGORIAN
PRODID:rbb-CMS DAY
BEGIN:VEVENT
CLASS:PUBLIC
URL:http://www.rbb-online.de/content/rbb/rbb/zibb/archiv/20131007_1830/kinder.html
DTEND:20131007T192500
DTSTART:20131007T183000
UID:/content/rbb/rbb/zibb/archiv/20131007_1830/kinder
DTSTAMP:20140406T213139
DESCRIPTION:Die Geburt eines Kindes ist für Eltern nicht nur der Beginn eines neuen wunderbarern Lebensabschnitt, sondern kann auch anstrengend sein und sie überfordern. Das Brandenburger "Netzwerk Gesunde Kinder" begleitet und hilft jungen Familien.\n
SUMMARY:Netzwerk gesunde Kinder   
END:VEVENT
END:VCALENDAR
