BEGIN:VCALENDAR
X-WR-TIMEZONE:Europe/Berlin
X-WR-CALNAME:rbb-Kalender
VERSION:2.0
METHOD:PUBLISH
CALSCALE:GREGORIAN
PRODID:rbb-CMS DAY
BEGIN:VEVENT
CLASS:PUBLIC
URL:http://www.rbb-online.de/content/rbb/rbb/zibb/archiv/20131009_1830/blinde-anwaeltin.html
DTEND:20131009T192500
DTSTART:20131009T183000
UID:/content/rbb/rbb/zibb/archiv/20131009_1830/blinde-anwaeltin
DTSTAMP:20140407T174354
DESCRIPTION:Pamela Papst ist die einzige von Geburt an blinde Rechtsanwältin Deutschlands. Schon als Kind wollte die 34-Jährige Juristin werden und kämpfte sich trotz Sehbehinderung durchs Jura-Studium.\n\n\n\n\n
SUMMARY:Die  Blinde Anwältin 
END:VEVENT
END:VCALENDAR
