BEGIN:VCALENDAR
X-WR-TIMEZONE:Europe/Berlin
X-WR-CALNAME:rbb-Kalender
VERSION:2.0
METHOD:PUBLISH
CALSCALE:GREGORIAN
PRODID:rbb-CMS DAY
BEGIN:VEVENT
CLASS:PUBLIC
URL:http://www.rbb-online.de/content/rbb/rbb/zibb/archiv/20131009_1830/katzen.html
DTEND:20131009T192500
DTSTART:20131009T183000
UID:/content/rbb/rbb/zibb/archiv/20131009_1830/katzen
DTSTAMP:20140407T174401
DESCRIPTION:Hauskatzen, die nicht nur auf dem eigenen Grundstück unterwegs sind, sollen in Luckenwalde künftig kastriert werden. So will es die Stadtverwaltung, die eine entsprechende Beschlussvorlage auf den Weg gebracht hat. Ab 2014 sollen alle Tierhalter verpflichtet werden, ihre Katzen kastrieren zu lassen. \n\n\n
SUMMARY:Luckenwalde will Katzen kastrieren
END:VEVENT
END:VCALENDAR
