BEGIN:VCALENDAR
X-WR-TIMEZONE:Europe/Berlin
X-WR-CALNAME:rbb-Kalender
VERSION:2.0
METHOD:PUBLISH
CALSCALE:GREGORIAN
PRODID:rbb-CMS DAY
BEGIN:VEVENT
CLASS:PUBLIC
URL:http://www.rbb-online.de/content/rbb/rbb/zibb/archiv/20131010_1830/blitzermarathon.html
DTEND:20131010T192500
DTSTART:20131010T183000
UID:/content/rbb/rbb/zibb/archiv/20131010_1830/blitzermarathon
DTSTAMP:20140406T220227
DESCRIPTION:Mit einem bundesweiten Blitzermarathon will die Polizei für erhöhte Sicherheit im Straßenverkehr sorgen. Allein in Berlin lauern an mehr als 200 Stellen Beamte mit Kameras auf Geschwindigkeitssünder. Grund genug also, an diesem Tag sein schönstes Fotogesicht aufzulegen.\n\n\n
SUMMARY:Bitte recht freundlich!
END:VEVENT
END:VCALENDAR
